BEGIN:VCALENDAR
VERSION:2.0
PRODID:-//La Cité de l&#039;Alimentation - ECPv6.15.20//NONSGML v1.0//EN
CALSCALE:GREGORIAN
METHOD:PUBLISH
X-ORIGINAL-URL:https://www.citedelalimentation.fr
X-WR-CALDESC:Évènements pour La Cité de l&#039;Alimentation
REFRESH-INTERVAL;VALUE=DURATION:PT1H
X-Robots-Tag:noindex
X-PUBLISHED-TTL:PT1H
BEGIN:VTIMEZONE
TZID:Europe/Paris
BEGIN:DAYLIGHT
TZOFFSETFROM:+0100
TZOFFSETTO:+0200
TZNAME:CEST
DTSTART:20240331T010000
END:DAYLIGHT
BEGIN:STANDARD
TZOFFSETFROM:+0200
TZOFFSETTO:+0100
TZNAME:CET
DTSTART:20241027T010000
END:STANDARD
BEGIN:DAYLIGHT
TZOFFSETFROM:+0100
TZOFFSETTO:+0200
TZNAME:CEST
DTSTART:20250330T010000
END:DAYLIGHT
BEGIN:STANDARD
TZOFFSETFROM:+0200
TZOFFSETTO:+0100
TZNAME:CET
DTSTART:20251026T010000
END:STANDARD
BEGIN:DAYLIGHT
TZOFFSETFROM:+0100
TZOFFSETTO:+0200
TZNAME:CEST
DTSTART:20260329T010000
END:DAYLIGHT
BEGIN:STANDARD
TZOFFSETFROM:+0200
TZOFFSETTO:+0100
TZNAME:CET
DTSTART:20261025T010000
END:STANDARD
END:VTIMEZONE
BEGIN:VEVENT
DTSTART;TZID=Europe/Paris:20250314T143000
DTEND;TZID=Europe/Paris:20250314T170000
DTSTAMP:20260423T032628
CREATED:20250318T053433Z
LAST-MODIFIED:20250318T053433Z
UID:798-1741962600-1741971600@www.citedelalimentation.fr
SUMMARY:Cuisine ouverte avec l'Accueil de jour familles
DESCRIPTION:Dans le cadre du projet que porte la Cité de l’Alimentation tout au long de l’année 2025 avec le soutien du programme «Mieux manger pour tous»\, nous recevrons le vendredi 14 mars un groupe de femmes résidentes en hébergements d’urgence\, accueillies en journée par l’Accueil de jour familles de Caen\, géré par l’association Itinéraires. \nCes personnes ne disposant d’aucune cuisine dans leur lieu d’hébergement\, il s’agira ici simplement de leur rendre accessible un espace où cuisiner ensemble\, choisir et préparer elles-mêmes leur repas au lieu d’une distribution d’un plat micro-ondable\, et rendre accessible des matières premières de qualité tout en favorisant le recours au légumes et fruits locaux et de saison.
URL:https://www.citedelalimentation.fr/evenement/cuisine-ouverte-avec-laccueil-de-jour-familles/
LOCATION:La Cité de l’Alimentation\, 5 Esplanade Rabelais\, Hérouville-Saint-Clair\, 14200
END:VEVENT
BEGIN:VEVENT
DTSTART;TZID=Europe/Paris:20250318T153000
DTEND;TZID=Europe/Paris:20250318T173000
DTSTAMP:20260423T032628
CREATED:20250318T054732Z
LAST-MODIFIED:20250318T054732Z
UID:800-1742311800-1742319000@www.citedelalimentation.fr
SUMMARY:Atelier «pâtisserie française» avec des étudiants étrangers de l'Uni. Caen
DESCRIPTION:En partenariat avec le Carré Internation de l’Université de Caen\, la Cité de l’Alimentation recevra un groupe d’étudiants en DUEF (Diplôme d’université études françaises) pour réaliser ensemble et partager quelques classiques de la pâtisserie française. De quoi dissiper l’étonnement que peuvent susciter ces pâtisseries qu’on retrouve en vitrine des boulangeries\, pour ces étudiants de nationalité indonésienne\, ghanéenne\, hollandaise\, australienne\, biélorusse et nigériane…
URL:https://www.citedelalimentation.fr/evenement/atelier-patisserie-francaise-avec-des-etudiants-etrangers-de-luni-caen/
LOCATION:La Cité de l’Alimentation\, 5 Esplanade Rabelais\, Hérouville-Saint-Clair\, 14200
END:VEVENT
BEGIN:VEVENT
DTSTART;TZID=Europe/Paris:20250322T140000
DTEND;TZID=Europe/Paris:20250322T170000
DTSTAMP:20260423T032628
CREATED:20250211T222810Z
LAST-MODIFIED:20250211T222810Z
UID:722-1742652000-1742662800@www.citedelalimentation.fr
SUMMARY:Carnaval d'Hérouville – Préparation
DESCRIPTION:La Cité de l’Alimentation se joint à l’antenne hérouvillaise du Secours Populaire pour proposer un stand de petite restauration à l’occasion du Carnaval de la ville\, dimanche 23 mars à la Fonderie. Sandwichs\, frites maison\, crêpes\, gâteaux… le tout en privilégiant le fait-maison et des matières premières locales lorsque c’est possible\, au bénéfice du Secours Populaire. \nLa veille\, la Cité de l’Alimentation accueillera bénévoles des deux structures pour préparer gâteaux et frites maison en vue de cet événement. La cagnotte solidaire constituée au restaurant de la Cité de l’Alimentation permettra de privilégier des achats de matières premières locale et de qualité tout en reversant l’intégralité de la recette de la journée au Secours Populaire. \nLe stand vous accueillera à deux moments de la journée de dimanche : \n• de 11h à 14h\, avant le départ de la parade\, alors que différentes animations seront proposées à la Fonderie\n• au retour de celle-ci à partir d’environ 17h \nVous souhaiteriez nous donner un coup de main lors de cette journée ou la veille pour sa préparation ? Toutes les bonnes volontés sont les bienvenues ! Rendez-vous sur notre planning bénévoles pour vous inscrire directement ou contactez-nous pour en savoir plus.
URL:https://www.citedelalimentation.fr/evenement/carnaval-dherouville-preparation/
LOCATION:La Cité de l’Alimentation\, 5 Esplanade Rabelais\, Hérouville-Saint-Clair\, 14200
END:VEVENT
BEGIN:VEVENT
DTSTART;TZID=Europe/Paris:20250323T110000
DTEND;TZID=Europe/Paris:20250323T183000
DTSTAMP:20260423T032628
CREATED:20250211T222635Z
LAST-MODIFIED:20250211T222635Z
UID:719-1742727600-1742754600@www.citedelalimentation.fr
SUMMARY:Carnaval d'Hérouville !
DESCRIPTION:La Cité de l’Alimentation se joint à l’antenne hérouvillaise du Secours Populaire pour proposer un stand de petite restauration à l’occasion du Carnaval de la ville\, dimanche 23 mars à la Fonderie. Sandwichs\, frites maison\, crêpes\, gâteaux… le tout en privilégiant le fait-maison et des matières premières locales lorsque c’est possible\, au bénéfice du Secours Populaire. \nLa veille\, la Cité de l’Alimentation accueillera bénévoles des deux structures pour préparer gâteaux et frites maison en vue de cet événement. La cagnotte solidaire constituée au restaurant de la Cité de l’Alimentation permettra de privilégier des achats de matières premières locale et de qualité tout en reversant l’intégralité de la recette de la journée au Secours Populaire. \nLe stand vous accueillera à deux moments de la journée de dimanche : \n• de 11h à 14h\, avant le départ de la parade\, alors que différentes animations seront proposées à la Fonderie\n• au retour de celle-ci à partir d’environ 17h \nVous souhaiteriez nous donner un coup de main lors de cette journée ou la veille pour sa préparation ? Toutes les bonnes volontés sont les bienvenues ! Rendez-vous sur notre planning bénévoles pour vous inscrire directement ou contactez-nous pour en savoir plus.
URL:https://www.citedelalimentation.fr/evenement/carnaval-dherouville/
LOCATION:La Fonderie\, Avenue du Haut Crépon\, Hérouville Saint Clair\, 14200
END:VEVENT
BEGIN:VEVENT
DTSTART;TZID=Europe/Paris:20250328T163000
DTEND;TZID=Europe/Paris:20250328T223000
DTSTAMP:20260423T032628
CREATED:20250221T060455Z
LAST-MODIFIED:20250305T114053Z
UID:732-1743179400-1743201000@www.citedelalimentation.fr
SUMMARY:La Cité de l'Alimentation a 1 an !
DESCRIPTION:Bientôt 1 an depuis l’ouverture de la Cité de l’Alimentation !\n\nPour souffler cette première bougie\, et vous remercier toutes et tous qui faites vivre la Cité de l’Alimentation à nos côtés depuis son premier jour\, on vous convie le vendredi 28 mars pour une journée et soirée festives : le midi au resto\, pour un goûter après l’école\, puis autour d’un verre dès le début de soirée\, et avec bien sûr quelques bonnes choses à grignoter…\n\n\n\nBénévoles ou adhérent•es (vous êtes déjà + de 200 !)\, habitué•es du midi au resto\, partenaires\, néophytes\, curieux : un moment ouvert à toutes et tous\, venez le partager avec nous !\n\n\n\nAu programme :\n\n– 16h30 : Goûter offert et ouvert à tous\, préparé durant l’après-midi avec les élèves de l’école Simone-Veil\n– 18h-20h : Apéritif offert (bar payant)\, mots de remerciements et petit bilan de cette première année d’activité\n– A partir de 20h : Street food ! (à petits prix)\n\n\n\nConfirmez votre présence !\n\nPour nous aider à préparer au mieux cet événement\, merci de prendre une minute pour nous confirmer votre présence en remplissant le formulaire accessible ici. Merci !
URL:https://www.citedelalimentation.fr/evenement/la-cite-de-lalimentation-a-1-an/
LOCATION:La Cité de l’Alimentation\, 5 Esplanade Rabelais\, Hérouville-Saint-Clair\, 14200
ATTACH;FMTTYPE=image/jpeg:https://www.citedelalimentation.fr/wp-content/uploads/2025/02/image0-rvb-web.jpg
END:VEVENT
BEGIN:VEVENT
DTSTART;TZID=Europe/Paris:20250331T093000
DTEND;TZID=Europe/Paris:20250331T140000
DTSTAMP:20260423T032628
CREATED:20250401T085118Z
LAST-MODIFIED:20250401T085118Z
UID:826-1743413400-1743429600@www.citedelalimentation.fr
SUMMARY:Atelier avec les bibliothèques de Caen-la-mer autour du "Cahier bleu foncé"
DESCRIPTION:Les lundis 31 mars et 28 avril\, la Cité de l’Alimentation accueillera des ateliers cuisine proposés avec les bibliothèques de Caen-la-mer\, pour prolonger un travail mené autour du livre « Facile à lire » Le Cahier bleu foncé de Françoise Legendre\, qui aborde le thème des recettes familiales et de leur importance\, notamment dans des parcours de migration. Les participants\, ayant rédigé une recette de leur choix\, passeront en cuisine pour en réaliser quelques unes ensemble avant de les partager avec des convives supplémentaires lors d’un repas convivial en salle.
URL:https://www.citedelalimentation.fr/evenement/atelier-avec-les-bibliotheques-de-caen-la-mer-autour-du-cahier-bleu-fonce/
LOCATION:La Cité de l’Alimentation\, 5 Esplanade Rabelais\, Hérouville-Saint-Clair\, 14200
END:VEVENT
END:VCALENDAR