BEGIN:VCALENDAR
VERSION:2.0
PRODID:-//La Cité de l&#039;Alimentation - ECPv6.15.20//NONSGML v1.0//EN
CALSCALE:GREGORIAN
METHOD:PUBLISH
X-WR-CALNAME:La Cité de l&#039;Alimentation
X-ORIGINAL-URL:https://www.citedelalimentation.fr
X-WR-CALDESC:Évènements pour La Cité de l&#039;Alimentation
REFRESH-INTERVAL;VALUE=DURATION:PT1H
X-Robots-Tag:noindex
X-PUBLISHED-TTL:PT1H
BEGIN:VTIMEZONE
TZID:Europe/Paris
BEGIN:DAYLIGHT
TZOFFSETFROM:+0100
TZOFFSETTO:+0200
TZNAME:CEST
DTSTART:20230326T010000
END:DAYLIGHT
BEGIN:STANDARD
TZOFFSETFROM:+0200
TZOFFSETTO:+0100
TZNAME:CET
DTSTART:20231029T010000
END:STANDARD
BEGIN:DAYLIGHT
TZOFFSETFROM:+0100
TZOFFSETTO:+0200
TZNAME:CEST
DTSTART:20240331T010000
END:DAYLIGHT
BEGIN:STANDARD
TZOFFSETFROM:+0200
TZOFFSETTO:+0100
TZNAME:CET
DTSTART:20241027T010000
END:STANDARD
BEGIN:DAYLIGHT
TZOFFSETFROM:+0100
TZOFFSETTO:+0200
TZNAME:CEST
DTSTART:20250330T010000
END:DAYLIGHT
BEGIN:STANDARD
TZOFFSETFROM:+0200
TZOFFSETTO:+0100
TZNAME:CET
DTSTART:20251026T010000
END:STANDARD
END:VTIMEZONE
BEGIN:VEVENT
DTSTART;TZID=Europe/Paris:20241214T110000
DTEND;TZID=Europe/Paris:20241214T180000
DTSTAMP:20260423T130350
CREATED:20241126T112233Z
LAST-MODIFIED:20241209T165210Z
UID:577-1734174000-1734199200@www.citedelalimentation.fr
SUMMARY:Marché de Noël d'Hérouville-Saint-Clair
DESCRIPTION:Samedi 14 décembre de 11h à 18h\, retrouvez la Cité de l’Alimentation au Marché de Noël d’Hérouville sur le parvis de l’Hôtel de Ville\, place François-Mitterrand. \nNous proposerons plusieurs gourmandises à petit prix (gaufres\, …)\, avec la possibilité de confectionner des sablés de Noël avec nous. \nSi vous êtes interessé-e pour passer un bout de cette journée avec nous sur le stand\, vous êtes les bienvenus ! Pour faire des gaufres ou accompagner l’atelier\, vendre ou parler du projet… Vous pouvez vous inscrire sur notre planning en ligne ou passer nous voir au restaurant\, et pour toute demande de renseignements nous joindre au 02 31 79 11 37 ou par écrit sur ce lien. \nRetrouvez tout le programme sur le site de la mairie : https://www.herouville.net/agenda/marche-de-noel-1
URL:https://www.citedelalimentation.fr/evenement/marche-de-noel-dherouville-saint-clair/
LOCATION:Parvis de l’Hotel de Ville\, Place François Mitterrand\, Hérouville Saint Clair\, France
ATTACH;FMTTYPE=image/jpeg:https://www.citedelalimentation.fr/wp-content/uploads/2024/11/marche-noel.jpg
END:VEVENT
END:VCALENDAR