BEGIN:VCALENDAR
VERSION:2.0
PRODID:-//La Cité de l&#039;Alimentation - ECPv6.15.20//NONSGML v1.0//EN
CALSCALE:GREGORIAN
METHOD:PUBLISH
X-ORIGINAL-URL:https://www.citedelalimentation.fr
X-WR-CALDESC:Évènements pour La Cité de l&#039;Alimentation
REFRESH-INTERVAL;VALUE=DURATION:PT1H
X-Robots-Tag:noindex
X-PUBLISHED-TTL:PT1H
BEGIN:VTIMEZONE
TZID:Europe/Paris
BEGIN:DAYLIGHT
TZOFFSETFROM:+0100
TZOFFSETTO:+0200
TZNAME:CEST
DTSTART:20240331T010000
END:DAYLIGHT
BEGIN:STANDARD
TZOFFSETFROM:+0200
TZOFFSETTO:+0100
TZNAME:CET
DTSTART:20241027T010000
END:STANDARD
BEGIN:DAYLIGHT
TZOFFSETFROM:+0100
TZOFFSETTO:+0200
TZNAME:CEST
DTSTART:20250330T010000
END:DAYLIGHT
BEGIN:STANDARD
TZOFFSETFROM:+0200
TZOFFSETTO:+0100
TZNAME:CET
DTSTART:20251026T010000
END:STANDARD
BEGIN:DAYLIGHT
TZOFFSETFROM:+0100
TZOFFSETTO:+0200
TZNAME:CEST
DTSTART:20260329T010000
END:DAYLIGHT
BEGIN:STANDARD
TZOFFSETFROM:+0200
TZOFFSETTO:+0100
TZNAME:CET
DTSTART:20261025T010000
END:STANDARD
END:VTIMEZONE
BEGIN:VEVENT
DTSTART;TZID=Europe/Paris:20250219T143000
DTEND;TZID=Europe/Paris:20250219T170000
DTSTAMP:20260423T101805
CREATED:20250203T211255Z
LAST-MODIFIED:20250203T211255Z
UID:702-1739975400-1739984400@www.citedelalimentation.fr
SUMMARY:Atelier goûter avec l'ASPTT Caen Basket
DESCRIPTION:Durant les vacances de février\, la Cité de l’Alimentation accueillera deux groupes d’enfants de l’ASPTT Caen Basket\, participant à un stage sportif et de loisirs sur le thème de l’alimentation. Après un déjeuner au restaurant\, les enfants passeront en cuisine pour un atelier autour du goûter.
URL:https://www.citedelalimentation.fr/evenement/atelier-gouter-avec-lasptt-caen-basket-2/
END:VEVENT
END:VCALENDAR