BEGIN:VCALENDAR
VERSION:2.0
PRODID:-//La Cité de l&#039;Alimentation - ECPv6.15.20//NONSGML v1.0//EN
CALSCALE:GREGORIAN
METHOD:PUBLISH
X-ORIGINAL-URL:https://www.citedelalimentation.fr
X-WR-CALDESC:Évènements pour La Cité de l&#039;Alimentation
REFRESH-INTERVAL;VALUE=DURATION:PT1H
X-Robots-Tag:noindex
X-PUBLISHED-TTL:PT1H
BEGIN:VTIMEZONE
TZID:Europe/Paris
BEGIN:DAYLIGHT
TZOFFSETFROM:+0100
TZOFFSETTO:+0200
TZNAME:CEST
DTSTART:20240331T010000
END:DAYLIGHT
BEGIN:STANDARD
TZOFFSETFROM:+0200
TZOFFSETTO:+0100
TZNAME:CET
DTSTART:20241027T010000
END:STANDARD
BEGIN:DAYLIGHT
TZOFFSETFROM:+0100
TZOFFSETTO:+0200
TZNAME:CEST
DTSTART:20250330T010000
END:DAYLIGHT
BEGIN:STANDARD
TZOFFSETFROM:+0200
TZOFFSETTO:+0100
TZNAME:CET
DTSTART:20251026T010000
END:STANDARD
BEGIN:DAYLIGHT
TZOFFSETFROM:+0100
TZOFFSETTO:+0200
TZNAME:CEST
DTSTART:20260329T010000
END:DAYLIGHT
BEGIN:STANDARD
TZOFFSETFROM:+0200
TZOFFSETTO:+0100
TZNAME:CET
DTSTART:20261025T010000
END:STANDARD
END:VTIMEZONE
BEGIN:VEVENT
DTSTART;TZID=Europe/Paris:20250117T180000
DTEND;TZID=Europe/Paris:20250117T223000
DTSTAMP:20260423T131333
CREATED:20250106T131135Z
LAST-MODIFIED:20250117T124120Z
UID:647-1737136800-1737153000@www.citedelalimentation.fr
SUMMARY:Les soirées de la Cité de l'Alimentation – Cuisine allemande
DESCRIPTION:Vendredi 17 janvier\, en partenariat avec l’association Amitié Hérouville Garbsen\, la Cité de l’Alimentation propose une soirée dédiée à la cuisine allemande à l’occasion des célébrations de l’amitié franco-allemande. \nLe 22 janvier marque l’anniversaire de la signature du traité d’amitié franco-allemand signé en 1963\, et l’association Hérouville Garbsen organisera différents événements autour de cette date à cette occasion. \nLe 17 janvier à la Cité de l’Alimentation\, comme pour nos soirées du dernier vendredi de chaque mois\, c’est soirée cuisine collective et repas partagé. On accueille 8 personnes en cuisine pour confectionner plusieurs recettes ensemble\, et on ouvre pour le repas à celles et ceux qui veulent nous rejoindre ! \nPour cuisiner avec nous\, rendez-vous dès 18h\, et pour manger à 20h. Tarifs habituels du restaurant (classique 16€\, soutien 20€\, solidaire 6€ via nos structures partenaires). Inscriptions : resa@citedelalimentation.fr ou 02 31 79 11 37.
URL:https://www.citedelalimentation.fr/evenement/les-soirees-de-la-cite-de-lalimentation-cuisine-allemande/
LOCATION:La Cité de l’Alimentation\, 5 Esplanade Rabelais\, Hérouville-Saint-Clair\, 14200
END:VEVENT
END:VCALENDAR