BEGIN:VCALENDAR
VERSION:2.0
PRODID:-//La Cité de l&#039;Alimentation - ECPv6.15.20//NONSGML v1.0//EN
CALSCALE:GREGORIAN
METHOD:PUBLISH
X-WR-CALNAME:La Cité de l&#039;Alimentation
X-ORIGINAL-URL:https://www.citedelalimentation.fr
X-WR-CALDESC:Évènements pour La Cité de l&#039;Alimentation
REFRESH-INTERVAL;VALUE=DURATION:PT1H
X-Robots-Tag:noindex
X-PUBLISHED-TTL:PT1H
BEGIN:VTIMEZONE
TZID:Europe/Paris
BEGIN:DAYLIGHT
TZOFFSETFROM:+0100
TZOFFSETTO:+0200
TZNAME:CEST
DTSTART:20230326T010000
END:DAYLIGHT
BEGIN:STANDARD
TZOFFSETFROM:+0200
TZOFFSETTO:+0100
TZNAME:CET
DTSTART:20231029T010000
END:STANDARD
BEGIN:DAYLIGHT
TZOFFSETFROM:+0100
TZOFFSETTO:+0200
TZNAME:CEST
DTSTART:20240331T010000
END:DAYLIGHT
BEGIN:STANDARD
TZOFFSETFROM:+0200
TZOFFSETTO:+0100
TZNAME:CET
DTSTART:20241027T010000
END:STANDARD
BEGIN:DAYLIGHT
TZOFFSETFROM:+0100
TZOFFSETTO:+0200
TZNAME:CEST
DTSTART:20250330T010000
END:DAYLIGHT
BEGIN:STANDARD
TZOFFSETFROM:+0200
TZOFFSETTO:+0100
TZNAME:CET
DTSTART:20251026T010000
END:STANDARD
END:VTIMEZONE
BEGIN:VEVENT
DTSTART;TZID=Europe/Paris:20241129T180000
DTEND;TZID=Europe/Paris:20241129T220000
DTSTAMP:20260423T161107
CREATED:20241007T205338Z
LAST-MODIFIED:20241126T110845Z
UID:465-1732903200-1732917600@www.citedelalimentation.fr
SUMMARY:Les soirées de la Cité de l'Alimentation – Cuisine finlandaise
DESCRIPTION:Le dernier vendredi de chaque mois\, c’est soirée cuisine collective et repas partagé. \nUn ou une membre de l’association nous partage un geste technique\, une recette particulière\, une cuisine du monde\, et on ouvre pour le repas à celles et ceux qui veulent nous rejoindre ! \nVendredi 29 novembre\, à l’occasion des Boréales\, cuisine finlandaise\, pays à l’honneur de cette édition ! \nPour cuisiner avec nous\, rendez-vous dès 18h\, et pour manger à 20h. Tarifs habituels du restaurant (classique 16€\, soutien 20€\, solidaire 6€). Inscriptions : contact@citedelalimentation.fr ou 02 31 79 11 37. \n– COMPLET – \n 
URL:https://www.citedelalimentation.fr/evenement/les-soirees-de-la-cite-de-lalimentation-cuisine-scandinave/
LOCATION:La Cité de l’Alimentation\, 5 Esplanade Rabelais\, Hérouville-Saint-Clair\, 14200
END:VEVENT
END:VCALENDAR