BEGIN:VCALENDAR
VERSION:2.0
PRODID:-//La Cité de l&#039;Alimentation - ECPv6.15.20//NONSGML v1.0//EN
CALSCALE:GREGORIAN
METHOD:PUBLISH
X-ORIGINAL-URL:https://www.citedelalimentation.fr
X-WR-CALDESC:Évènements pour La Cité de l&#039;Alimentation
REFRESH-INTERVAL;VALUE=DURATION:PT1H
X-Robots-Tag:noindex
X-PUBLISHED-TTL:PT1H
BEGIN:VTIMEZONE
TZID:Europe/Paris
BEGIN:DAYLIGHT
TZOFFSETFROM:+0100
TZOFFSETTO:+0200
TZNAME:CEST
DTSTART:20230326T010000
END:DAYLIGHT
BEGIN:STANDARD
TZOFFSETFROM:+0200
TZOFFSETTO:+0100
TZNAME:CET
DTSTART:20231029T010000
END:STANDARD
BEGIN:DAYLIGHT
TZOFFSETFROM:+0100
TZOFFSETTO:+0200
TZNAME:CEST
DTSTART:20240331T010000
END:DAYLIGHT
BEGIN:STANDARD
TZOFFSETFROM:+0200
TZOFFSETTO:+0100
TZNAME:CET
DTSTART:20241027T010000
END:STANDARD
BEGIN:DAYLIGHT
TZOFFSETFROM:+0100
TZOFFSETTO:+0200
TZNAME:CEST
DTSTART:20250330T010000
END:DAYLIGHT
BEGIN:STANDARD
TZOFFSETFROM:+0200
TZOFFSETTO:+0100
TZNAME:CET
DTSTART:20251026T010000
END:STANDARD
END:VTIMEZONE
BEGIN:VEVENT
DTSTART;TZID=Europe/Paris:20241030T150000
DTEND;TZID=Europe/Paris:20241030T170000
DTSTAMP:20260423T192231
CREATED:20241022T065945Z
LAST-MODIFIED:20241029T062852Z
UID:491-1730300400-1730307600@www.citedelalimentation.fr
SUMMARY:Atelier familial «Goûter normand (avec du Halloween dedans)» (COMPLET)
DESCRIPTION:À l’occasion de l’événement régional Cuisinez la Normandie\, la Cité de l’Alimentation vous propose une après-midi familiale pour réaliser et partager un goûter maison\, réunissant des produits du coin et un imaginaire plus lointain… \nTarifs :\n– Classique 5€/personne\n– Soutien 8€/personne\n– Solidaire 2€/personne \nA noter\, pour toute activité en cuisine à la Cité de l’Alimentation une adhésion à l’association est requise (cotisation minimale de 5€ pour l’année\, l’adhésion d’un parent couvrant l’assurance des enfants). Celle-ci peut se faire sur place.
URL:https://www.citedelalimentation.fr/evenement/atelier-familial-gouter-normand-avec-du-halloween-dedans/
LOCATION:La Cité de l’Alimentation\, 5 Esplanade Rabelais\, Hérouville-Saint-Clair\, 14200
END:VEVENT
END:VCALENDAR