BEGIN:VCALENDAR
VERSION:2.0
PRODID:-//La Cité de l&#039;Alimentation - ECPv6.15.20//NONSGML v1.0//EN
CALSCALE:GREGORIAN
METHOD:PUBLISH
X-ORIGINAL-URL:https://www.citedelalimentation.fr
X-WR-CALDESC:Évènements pour La Cité de l&#039;Alimentation
REFRESH-INTERVAL;VALUE=DURATION:PT1H
X-Robots-Tag:noindex
X-PUBLISHED-TTL:PT1H
BEGIN:VTIMEZONE
TZID:Europe/Paris
BEGIN:DAYLIGHT
TZOFFSETFROM:+0100
TZOFFSETTO:+0200
TZNAME:CEST
DTSTART:20230326T010000
END:DAYLIGHT
BEGIN:STANDARD
TZOFFSETFROM:+0200
TZOFFSETTO:+0100
TZNAME:CET
DTSTART:20231029T010000
END:STANDARD
BEGIN:DAYLIGHT
TZOFFSETFROM:+0100
TZOFFSETTO:+0200
TZNAME:CEST
DTSTART:20240331T010000
END:DAYLIGHT
BEGIN:STANDARD
TZOFFSETFROM:+0200
TZOFFSETTO:+0100
TZNAME:CET
DTSTART:20241027T010000
END:STANDARD
BEGIN:DAYLIGHT
TZOFFSETFROM:+0100
TZOFFSETTO:+0200
TZNAME:CEST
DTSTART:20250330T010000
END:DAYLIGHT
BEGIN:STANDARD
TZOFFSETFROM:+0200
TZOFFSETTO:+0100
TZNAME:CET
DTSTART:20251026T010000
END:STANDARD
END:VTIMEZONE
BEGIN:VEVENT
DTSTART;TZID=Europe/Paris:20241005T140000
DTEND;TZID=Europe/Paris:20241005T170000
DTSTAMP:20260423T222033
CREATED:20241007T212242Z
LAST-MODIFIED:20241007T212242Z
UID:473-1728136800-1728147600@www.citedelalimentation.fr
SUMMARY:Sport et emploi\, même combat
DESCRIPTION:La Cité de l’Alimentation sera présente dans le quartier du Bois pour proposer un goûter à l’occasion de cet événement mêlant animations proposées par des clubs sportifs et la présence de professionnels de l’emploi\, de la formation et de l’insertion.
URL:https://www.citedelalimentation.fr/evenement/sport-et-emploi-meme-combat/
END:VEVENT
END:VCALENDAR